BEGIN:VCALENDAR
VERSION:2.0
PRODID:-//Tukios.com/
BEGIN:VEVENT
UID:82f10391-f5dd-472c-9888-0faaa47aacfb@www.redgatehennessy.com
DTSTAMP:20260424T200511Z
DTSTART:20260428T200000Z
DTEND:20260428T230000Z
SUMMARY:Visitation
DESCRIPTION:
URL:https://www.redgatehennessy.com/obituaries/george-battistelli-jr
LOCATION: 4 Gorham Pl  Trumbull CT 06611
GEO:41.2290418;-73.2199102
END:VEVENT
END:VCALENDAR