BEGIN:VCALENDAR
VERSION:2.0
PRODID:-//Tukios.com/
BEGIN:VEVENT
UID:78975fab-57a0-4e6a-818a-397e3640470d@www.redgatehennessy.com
DTSTAMP:20260424T200233Z
DTSTART:20260429T150000Z
DTEND:20260429T160000Z
SUMMARY:Mass
DESCRIPTION:
URL:https://www.redgatehennessy.com/obituaries/george-battistelli-jr
LOCATION: 5301 Main Street  Trumbull CT 06611
GEO:41.2379539;-73.221223
END:VEVENT
END:VCALENDAR