BEGIN:VCALENDAR
VERSION:2.0
PRODID:-//Tukios.com/
BEGIN:VEVENT
UID:600b6b2b-4f5e-4c97-9611-35de298095a7@www.redgatehennessy.com
DTSTAMP:20260424T195801Z
DTSTART:20260429T163000Z
DTEND:20260429T170000Z
SUMMARY:Interment
DESCRIPTION:
URL:https://www.redgatehennessy.com/obituaries/george-battistelli-jr
LOCATION:Nichols Village Cemetery Cemetery Road  Trumbull CT 06611
GEO:41.2432458;-73.1580986
END:VEVENT
END:VCALENDAR