BEGIN:VCALENDAR
VERSION:2.0
PRODID:-//Tukios.com/
BEGIN:VEVENT
UID:d72045c9-ee92-45fa-af90-ab433588c567@www.redgatehennessy.com
DTSTAMP:20260423T011212Z
DTSTART:20260501T150000Z
DTEND:20260501T160000Z
SUMMARY:Funeral Service
DESCRIPTION:
URL:https://www.redgatehennessy.com/obituaries/june-wilkes
LOCATION: 4 Gorham Pl  Trumbull CT 06611
GEO:41.2290418;-73.2199102
END:VEVENT
END:VCALENDAR