BEGIN:VCALENDAR
VERSION:2.0
PRODID:-//Tukios.com/
BEGIN:VEVENT
UID:f1381523-820e-4c8d-aac5-2b15c653d401@www.redgatehennessy.com
DTSTAMP:20260423T011212Z
DTSTART:20260501T160000Z
DTEND:20260501T170000Z
SUMMARY:Interment
DESCRIPTION:
URL:https://www.redgatehennessy.com/obituaries/june-wilkes
LOCATION: 620 Lindley St  Bridgeport CT 06606
GEO:41.1992646;-73.1971231
END:VEVENT
END:VCALENDAR