BEGIN:VCALENDAR
VERSION:2.0
PRODID:-//Tukios.com/
BEGIN:VEVENT
UID:65481d36-60ed-4bad-acee-5f9811f178d6@www.redgatehennessy.com
DTSTAMP:20260420T172312Z
DTSTART:20260505T150000Z
DTEND:20260505T160000Z
SUMMARY:Mass
DESCRIPTION:
URL:https://www.redgatehennessy.com/obituaries/william-sinclair
LOCATION:St. Theresa Church 5301 Main St  Trumbull CT 06611
GEO:41.2379565;-73.2212198
END:VEVENT
END:VCALENDAR